BEGIN:VCALENDAR
VERSION:2.0
PRODID:-//hotelshowsaudi-arabic.bitkit.dk//NONSGML The Hotel Show Saudi Arabia//EN
METHOD:REQUEST
BEGIN:VEVENT
UID:20260421T175721-844735792-calendar_event
DTSTAMP:20260421T175721Z
DTSTART:20220906T160000
DTEND:20220908T220000
LOCATION:Riyadh International Convention and Exhibition Centre (RICEC)
SUMMARY:The Hotel Show Saudi Arabia
DESCRIPTION:6 - 8 SEPTEMBER 2022 | RICEC, Riyadh | The Hotel Show Saudi Arabia is where the Kingdom’s hotel and hospitality industry reunites to trade, network and be inspired.
BEGIN:VALARM
TRIGGER:PT1W
ACTION:DISPLAY
DESCRIPTION:Reminder
END:VALARM
END:VEVENT
END:VCALENDAR
